BEGIN:VCALENDAR
VERSION:2.0
PRODID:-//Stroke Awareness Oregon - ECPv6.15.14//NONSGML v1.0//EN
CALSCALE:GREGORIAN
METHOD:PUBLISH
X-ORIGINAL-URL:https://strokeawarenessoregon.org
X-WR-CALDESC:Events for Stroke Awareness Oregon
REFRESH-INTERVAL;VALUE=DURATION:PT1H
X-Robots-Tag:noindex
X-PUBLISHED-TTL:PT1H
BEGIN:VTIMEZONE
TZID:UTC
BEGIN:STANDARD
TZOFFSETFROM:+0000
TZOFFSETTO:+0000
TZNAME:UTC
DTSTART:20250101T000000
END:STANDARD
END:VTIMEZONE
BEGIN:VEVENT
DTSTART;TZID=UTC:20260513T150000
DTEND;TZID=UTC:20260513T160000
DTSTAMP:20260420T184223
CREATED:20260406T192819Z
LAST-MODIFIED:20260406T192820Z
UID:10000661-1778684400-1778688000@strokeawarenessoregon.org
SUMMARY:Stroke Survivors Men's Group
DESCRIPTION:Stroke Survivors Men’s Group\nMonthly on the second Wednesday 3:00 – 4:00pm\n\n\n\n\n\n\n\n\n\nZOOM ID: 267 166 8755\n\n\n\n\n\n\nSAO Events and Presentations\n\nCreated by: admin@strokeawarenessoregon.org
URL:https://strokeawarenessoregon.org/event/stroke-survivors-mens-group-2/2026-05-13/
ATTACH;FMTTYPE=image/jpeg:https://strokeawarenessoregon.org/wp-content/uploads/2025/12/mens-support-group-Large.jpeg
END:VEVENT
END:VCALENDAR